Workbook

Sheet Főösszesítő
A1: Lajosmizse Város Önkormányzata
A2: 6050 Lajosmizse, Városház tér 1.
A3: Tel.:
A4: Fax:
A6: Adószám :
A8: Név:
A10: Cím: | C10: Kelt: 2017. év. 00. hó 00. nap
C11: Szám :.............
C12: KSH besorolás:.....................
C13: Teljesítés:2017 év...........hó...nap
A14: A munka leírása: | C14: Készítette:
A15: Rákóczi úti óvoda - Akadálymentesítés kialakítása
A16: Székhely óvoda belső ajtók, beépített szekrények mázolása
A17: Szent Lajos úti óvoda cső mázolás
A21: Költségvetés főösszesítő
A22: Megnevezés | C22: Anyagköltség | D22: Díjköltség
A23: 1. Építmény közvetlen költségei | C23: =Összesen!B6 -> 0 | D23: =Összesen!C6 -> 0
A24: 1.1 Közvetlen önköltség összesen | C24: =C23 -> 0 | D24: =D23 -> 0
A25: 2.1 ÁFA vetítési alap | C25: =C24+D24 -> 0
A26: 2.2 Áfa | B26: 0.27 | C26: =C25*0.27 -> 0
A27: 3. A munka ára | C27: =C25+C26 -> 0
B37: Aláírás

Sheet Összesen
A1: Munkanem megnevezése | B1: Anyag összege | C1: Díj összege
A2: Járdák átalakítása - BELSŐ | B2: ='Járdák átalakítása - BELSŐ'!H47 -> 0 | C2: ='Járdák átalakítása - BELSŐ'!I47 -> 0
A3: Járda átalakítása - KÜLSŐ | B3: ='Járda átalakítása - KÜLSŐ'!H35 -> 0 | C3: ='Járda átalakítása - KÜLSŐ'!I35 -> 0
A4: 47. Felületképzés | B4: ='(1.) 47. Felületképzés'!H7 -> 0 | C4: ='(1.) 47. Felületképzés'!I7 -> 0
A5: 47. Felületképzés | B5: ='47. Felületképzés'!H9 -> 0 | C5: ='47. Felületképzés'!I9 -> 0
A6: Összesen | B6: =SUM(B2:B5) -> 0 | C6: =SUM(C2:C5) -> 0
A7: Mind összesen | B7: =(B6 + C6) -> 0

Sheet Járdák átalakítása - BELSŐ
B1: Járdák átalakítása - BELSŐ
A2: Ssz. | B2: Tételszám | C2: Tétel szövege | D2: Menny. | E2: Egység | F2: Anyag egységár | G2: Díj egységre | H2: Anyag összesen | I2: Díj összesen
A4: 1 | B4: K-tétel | C4: Járda/térburkolat felületének felvágása | D4: 8 | E4: m | F4: 0 | G4: 0 | H4: =(D4*F4) -> 0 | I4: =(D4*G4) -> 0
A6: 2 | B6: 31-000-401 | C6: Járda bontása 10 cm vastagságig kézi erővel betonból | D6: 19 | E6: m2 | F6: 0 | G6: 0 | H6: =(D6*F6) -> 0 | I6: =(D6*G6) -> 0
A8: 3 | B8: 62-001-3.1 | C8: Térkő burkolat bontása | D8: 6 | E8: m2 | F8: 0 | G8: 0 | H8: =(D8*F8) -> 0 | I8: =(D8*G8) -> 0
A10: 4 | B10: 62-001-1.1 | C10: Szegélyek bontása bármely anyagból; kiemelt vagy süllyesztett szegélyek, futósorok, betongerendával | D10: 5.5 | E10: m | F10: 0 | G10: 0 | H10: =(D10*F10) -> 0 | I10: =(D10*G10) -> 0
A12: 5 | B12: 21-011-11.4 | C12: Építési törmelék konténeres elszállítása, lerakása, lerakóhelyi díjjal, 5,0 m3-es konténerbe | D12: 1 | E12: db | F12: 0 | G12: 0 | H12: =(D12*F12) -> 0 | I12: =(D12*G12) -> 0
A14: 6 | B14: K-tétel | C14: Törtbeton terítés (átl. 19 cm vtg-ban) | D14: 25.1 | E14: m3 | F14: 0 | G14: 0 | H14: =(D14*F14) -> 0 | I14: =(D14*G14) -> 0
A16: 7 | B16: 21-621-012-001-01-00005 | C16: Kiékelő réteg készítése, PT és NZ (3-5 cm vtg-ban) | D16: 6.6 | E16: m3 | F16: 0 | G16: 0 | H16: =(D16*F16) -> 0 | I16: =(D16*G16) -> 0
A18: 8 | B18: 21-810-004 | C18: Tömörítés bármely tömörítési osztályban, gépi erővel, kis felületen 85% tömörségi fokra | D18: 31.7 | E18: m3 | F18: 0 | G18: 0 | H18: =(D18*F18) -> 0 | I18: =(D18*G18) -> 0
A20: 9 | B20: 33-001-1.3.3.2.1.1-0200308 | C20: Pincelejáró melletti kiemelt szegélyezés készítése 250x500x250 mm-es méretű beton zsaluzóelemből, kitöltő betonnal, betonacél beépítéssel ZS 25-ös zsaluzóelem, 25 cm magasságban, látszó síkja vakolattal ellátva, meglévő térbetonra falazva | D20: 2.9 | E20: m | F20: 0 | G20: 0 | H20: =(D20*F20) -> 0 | I20: =(D20*G20) -> 0
A22: 10 | B22: 62-210-012-006-35-01721 | C22: Kerti szegély készítése, beton alapgerendával és megtámasztással, LEIER QUARTZ típusú, kerti szegélykőből, 100x5x20 cm méretű, meglévő térbeton széléhez igazítva, erősített betongerendába fektetve szürke | D22: 43.7 | E22: m | F22: 0 | G22: 0 | H22: =(D22*F22) -> 0 | I22: =(D22*G22) -> 0
A24: 11 | B24: 62-001-3.1 | C24: Meglévő térkőburkolat újrarakása homokos ágyazat megemelésével, tömörítésével 5 cm laza vastagságú, 0-4 mm szemszerkezetű, agyagmentes homokágyazatra fektetve, tömörítve, 0.01 m3/m2 élesszemű homokkal hézagolva | D24: 6 | E24: m2 | F24: 0 | G24: 0 | H24: =(D24*F24) -> 0 | I24: =(D24*G24) -> 0
A26: 12 | B26: 62-310-105-001-10-00222 | C26: Burkolat készítése 5 cm laza vastagságú, 0-4 mm szemszerkezetű, agyagmentes homokágyazatra fektetve, tömörítve, 0.01 m3/m2 élesszemű homokkal hézagolva, minta készítéssel, egyenes és íves csatlakozásokkal, kezdő-, szél- és zárókövek beépítésével, A BETON és VIACOLOR UNI típusú, 6 cm magas térburkolókővel, normálkő szürke | D26: 132.1 | E26: m2 | F26: 0 | G26: 0 | H26: =(D26*F26) -> 0 | I26: =(D26*G26) -> 0
... A44: 21 | B44: K-tétel | C44: Földfeltöltés készítése hozott anyagból szegélyek mellett rézsüs csatlakozás kialakításával, 2 m szélességig tömörítéssel, egyengetéssel | D44: 15 | E44: m3 | F44: 0 | G44: 0 | H44: =(D44*F44) -> 0 | I44: =(D44*G44) -> 0
C47: Munkanem összesen: | H47: =SUM(H4:H44) -> 0 | I47: =SUM(I4:I44) -> 0

Sheet Járda átalakítása - KÜLSŐ
B1: Járdák átalakítása - KÜLSŐ
A2: Ssz. | B2: Tételszám | C2: Tétel szövege | D2: Menny. | E2: Egység | F2: Anyag egységár | G2: Díj egységre | H2: Anyag összesen | I2: Díj összesen
A4: 1 | B4: K-tétel | C4: Járda felületének felvágása | D4: 2.4 | E4: m | F4: 0 | G4: 0 | H4: =(D4*F4) -> 0 | I4: =(D4*G4) -> 0
A6: 2 | B6: 31-000-401 | C6: Járda bontása 10 cm vastagságig kézi erővel betonból | D6: 2 | E6: m2 | F6: 0 | G6: 0 | H6: =(D6*F6) -> 0 | I6: =(D6*G6) -> 0
A8: 3 | B8: 21-002-1.2 | C8: Humuszos termőréteg, termőföld leszedése, terítése kézi erővel, 18%-os terephajlásig, bármilyen talajban, szállítással, 50,1-200,0 m között (Helyszínen deponálva) | D8: 1.1 | E8: m3 | F8: 0 | G8: 0 | H8: =(D8*F8) -> 0 | I8: =(D8*G8) -> 0
A10: 4 | B10: 21-003-5.1.1.1 | C10: Munkaárok földkiemelése közművesített területen, kézi erővel, bármely konzisztenciájú talajban, dúcolás nélkül, 2,0 m2 szelvényig, I-II. talajosztály | D10: 3.2 | E10: m3 | F10: 0 | G10: 0 | H10: =(D10*F10) -> 0 | I10: =(D10*G10) -> 0
A12: 5 | B12: 21-517-001 | C12: Tükörkészítés tömörítés nélkül, gépi erővel. Kiegészítő kézi munkával, sík felületen, altalaj tömörítéssel I-IV. osztályú talajban, altalaj tömörítésével | D12: 10.1 | E12: m2 | F12: 0 | G12: 0 | H12: =(D12*F12) -> 0 | I12: =(D12*G12) -> 0
A14: 6 | B14: 21-621-011-002-01-00005 | C14: Talajjavító réteg készítése homokos kavicsból, 3,0 m szélességig (térkő alá) | D14: 9.4 | E14: m3 | F14: 0 | G14: 0 | H14: =(D14*F14) -> 0 | I14: =(D14*G14) -> 0
A16: 7 | B16: 21-810-004 | C16: Tömörítés bármely tömörítési osztályban, gépi erővel, kis felületen 85% tömörségi fokra | D16: 9.4 | E16: m3 | F16: 0 | G16: 0 | H16: =(D16*F16) -> 0 | I16: =(D16*G16) -> 0
A18: 8 | B18: 62-002-2.3-0610164 | C18: Süllyesztett szegély vagy futósor készítése, alapárok kiemeléssel, beton alapgerendával, hézagolással, 40 cm hosszú előregyártott beton szegélyelemekből Beton útszegélykő, süllyesztett, 40/20/15 cm C12/15 - XN(H) földnedves kavicsbeton keverék CEM 32,5 pc. D_max = 16 mm, m = 6,3 finomsági modulussal | D18: 4 | E18: m | F18: 0 | G18: 0 | H18: =(D18*F18) -> 0 | I18: =(D18*G18) -> 0
A20: 9 | B20: 62-002-21.1-0610718 | C20: Egyéb használatos szegélykövek, útszegélyek készítése, alapárok kiemeléssel, betonhézagolással, 25 vagy 30 cm hosszú elemekből A Beton-Viacolor K szegélykő kopóréteg nélkül 25x15x25 cm, szürke | D20: 10 | E20: m | F20: 0 | G20: 0 | H20: =(D20*F20) -> 0 | I20: =(D20*G20) -> 0
A22: 10 | B22: 62-210-012-006-35-01721 | C22: Kiemelt út, kerékpárút, járda és kerti szegély készítése, az alapárok kiemelésével, beton alapgerendával és megtámasztással, hézagolással, LEIER QUARTZ típusú, kerti szegélykőből, 100x5x20 cm méretű szürke | D22: 24.6 | E22: m | F22: 0 | G22: 0 | H22: =(D22*F22) -> 0 | I22: =(D22*G22) -> 0
A24: 11 | B24: 62-310-105-001-10-00222 | C24: Burkolat készítése 5 cm laza vastagságú, 0-4 mm szemszerkezetű, agyagmentes homokágyazatra fektetve, tömörítve, 0.01 m3/m2 élesszemű homokkal hézagolva, minta készítéssel, egyenes és íves csatlakozásokkal, kezdő-, szél- és zárókövek beépítésével, A BETON és VIACOLOR UNI típusú, 6 cm magas térburkolókővel, normálkő szürke | D24: 51.9 | E24: m2 | F24: 0 | G24: 0 | H24: =(D24*F24) -> 0 | I24: =(D24*G24) -> 0
A26: 12 | B26: K-tétel | C26: Lábazati falak talajnedvesség elleni védelme 1 rtg szigeteléssel, 30 cm magasságban | D26: 22.4 | E26: m | F26: 0 | G26: 0 | H26: =(D26*F26) -> 0 | I26: =(D26*G26) -> 0
... A32: 15 | B32: K-tétel | C32: Zúzottkő feltöltés kialakítása kapubejáró előtti kiemelt járdaszintnél, osztályozott zúzottkőből, igazítással 12-24 NZ | D32: 2.5 | E32: m3 | F32: 0 | G32: 0 | H32: =(D32*F32) -> 0 | I32: =(D32*G32) -> 0
C35: Munkanem összesen: | H35: =SUM(H4:H32) -> 0 | I35: =SUM(I4:I32) -> 0

Sheet (1.) 47. Felületképzés
B1: Felületképzés
A2: Ssz. | B2: Tételszám | C2: Tétel szövege | D2: Menny. | E2: Egység | F2: Anyag egységár | G2: Díj egységre | H2: Anyag összesen | I2: Díj összesen
A4: 1 | B4: 47-031-1.5.1.2-0130361 | C4: Belső fafelületek zománclakkozása, műgyantabázisú (alkid) oldószertartalmú zománccal, tagolt felületen zománcfesték, fehér színben "meglévő ajtók, beépített szekrények újramázolása" | D4: 313 | E4: m2 | F4: 0 | G4: 0 | H4: =(D4*F4) -> 0 | I4: =(D4*G4) -> 0
C7: Munkanem összesen: | H7: =H4 -> 0 | I7: =I4 -> 0

Sheet 47. Felületképzés
B1: Felületképzés
A2: Ssz. | B2: Tételszám | C2: Tétel szövege | D2: Menny. | E2: Egység | F2: Anyag egységár | G2: Díj egységre | H2: Anyag összesen | I2: Díj összesen
A4: 1 | B4: 47-021-21.4.1-0130701 | C4: Acélfelületek közbenső festése cső és regisztercső felületén (NÁ 80-ig), függesztőn és tartóvason, sormosdó állványzaton műgyanta kötőanyagú, oldószeres festékkel alapozófesték, fehér 100, | D4: 163.8 | E4: m | F4: 0 | G4: 0 | H4: =(D4*F4) -> 0 | I4: =(D4*G4) -> 0
A6: 2 | B6: 47-021-31.4.1-0130431 | C6: Acélfelületek átvonó festése cső és regisztercső felületén (NÁ 80-ig), függesztőn és tartóvason, sormosdó állványzaton műgyanta kötőanyagú, oldószeres festékkel selyemfényű zománcfesték, fehér 100, | D6: 163.8 | E6: m | F6: 0 | G6: 0 | H6: =(D6*F6) -> 0 | I6: =(D6*G6) -> 0
C9: Munkanem összesen: | H9: =SUM(H4:H6) -> 0 | I9: =SUM(I4:I6) -> 0
